BEGIN:VCALENDAR
VERSION:2.0
PRODID:-//Baxter Arena - ECPv6.15.20//NONSGML v1.0//EN
CALSCALE:GREGORIAN
METHOD:PUBLISH
X-ORIGINAL-URL:https://www.baxterarena.com
X-WR-CALDESC:Events for Baxter Arena
REFRESH-INTERVAL;VALUE=DURATION:PT1H
X-Robots-Tag:noindex
X-PUBLISHED-TTL:PT1H
BEGIN:VTIMEZONE
TZID:America/Chicago
BEGIN:DAYLIGHT
TZOFFSETFROM:-0600
TZOFFSETTO:-0500
TZNAME:CDT
DTSTART:20240310T080000
END:DAYLIGHT
BEGIN:STANDARD
TZOFFSETFROM:-0500
TZOFFSETTO:-0600
TZNAME:CST
DTSTART:20241103T070000
END:STANDARD
BEGIN:DAYLIGHT
TZOFFSETFROM:-0600
TZOFFSETTO:-0500
TZNAME:CDT
DTSTART:20250309T080000
END:DAYLIGHT
BEGIN:STANDARD
TZOFFSETFROM:-0500
TZOFFSETTO:-0600
TZNAME:CST
DTSTART:20251102T070000
END:STANDARD
BEGIN:DAYLIGHT
TZOFFSETFROM:-0600
TZOFFSETTO:-0500
TZNAME:CDT
DTSTART:20260308T080000
END:DAYLIGHT
BEGIN:STANDARD
TZOFFSETFROM:-0500
TZOFFSETTO:-0600
TZNAME:CST
DTSTART:20261101T070000
END:STANDARD
END:VTIMEZONE
BEGIN:VEVENT
DTSTART;TZID=America/Chicago:20250809T100000
DTEND;TZID=America/Chicago:20250809T120000
DTSTAMP:20260419T130613
CREATED:20250731T182616Z
LAST-MODIFIED:20250731T182616Z
UID:4423-1754733600-1754740800@www.baxterarena.com
SUMMARY:Clarkson College Commencement
DESCRIPTION:Doors open 60 minutes prior to ceremony. \n🚗 PARKING \nGuests can park for free at Baxter Arena in lots 23\, 24\, 26 and 27. \nReserved Premium Parking is available at Baxter Arena!\nGuests can now reserve premium parking in lots 21 22\, and 25. Optional parking passes are $10 per vehicle and can be purchased in advance or upon arrival. \n\nPasses can also be purchased at the Baxter Arena Box Office\, noon to 5 p.m. Monday through Friday.\nPasses are not available for purchase at school.\n\nBaxter Arena has ADA-accessible parking that is available on a first come\, first serve basis. \nPlease contact Baxter Arena with questions at info@baxterarena.com or by phone noon to 5 p.m. Monday through Friday\, 402-554-6287. \nEVENT POLICIES\nARRIVE EARLY\nArrive early as guests will be required to pass through security screening upon entry. \nCLEAR BAG POLICY\nBaxter Arena is a CLEAR BAG POLICY venue. Only CLEAR BAGS and small clutch-sized purses are allowed at entry. To view more regarding the clear bag policy\, click here: CLEAR BAG POLICY \nNO WEAPONS\nAny type of weapon\, fake weapon or object resembling a weapon. This includes but is not limited to handguns\, rifles\, knives\, straight edge razors\, brass knuckles\, swords\, dangerous ordinance\, Tasers\, chains and all other categories of weapons\, whether such items are real or replica weapons. This includes permit holders possessing or carrying lawfully concealed weapons in or around the facility. These items will be confiscated and not returned. \nADDITIONAL PROHIBITED ITEMS\nNo noise makers. No helium balloons. No glass vases. \nNO OUTSIDE FOOD & BEVERAGE\nNo outside food or beverage may be brought into the venue. Empty bottles are allowed for fill at drinking fountains. Concessions are cashless. \nCAMERAS\nCell phone photos are permitted. Professional cameras or cameras with detachable lenses are allowed. Audio or video is allowed. \nSPECIAL ACCOMMODATIONS\nFor special accommodations including ADA seating\, please call the Baxter Arena Box Office at 402-554-MAVS or email info@baxterarena.com.
URL:https://www.baxterarena.com/event/clarkson-college-commencement/
LOCATION:Baxter Arena\, 2425 South 67th Street\, Omaha\, NE\, 68182
CATEGORIES:Community Events,Graduation
END:VEVENT
END:VCALENDAR