BEGIN:VCALENDAR
VERSION:2.0
PRODID:-//Baxter Arena - ECPv6.15.20//NONSGML v1.0//EN
CALSCALE:GREGORIAN
METHOD:PUBLISH
X-WR-CALNAME:Baxter Arena
X-ORIGINAL-URL:https://www.baxterarena.com
X-WR-CALDESC:Events for Baxter Arena
REFRESH-INTERVAL;VALUE=DURATION:PT1H
X-Robots-Tag:noindex
X-PUBLISHED-TTL:PT1H
BEGIN:VTIMEZONE
TZID:America/Chicago
BEGIN:DAYLIGHT
TZOFFSETFROM:-0600
TZOFFSETTO:-0500
TZNAME:CDT
DTSTART:20230312T080000
END:DAYLIGHT
BEGIN:STANDARD
TZOFFSETFROM:-0500
TZOFFSETTO:-0600
TZNAME:CST
DTSTART:20231105T070000
END:STANDARD
BEGIN:DAYLIGHT
TZOFFSETFROM:-0600
TZOFFSETTO:-0500
TZNAME:CDT
DTSTART:20240310T080000
END:DAYLIGHT
BEGIN:STANDARD
TZOFFSETFROM:-0500
TZOFFSETTO:-0600
TZNAME:CST
DTSTART:20241103T070000
END:STANDARD
BEGIN:DAYLIGHT
TZOFFSETFROM:-0600
TZOFFSETTO:-0500
TZNAME:CDT
DTSTART:20250309T080000
END:DAYLIGHT
BEGIN:STANDARD
TZOFFSETFROM:-0500
TZOFFSETTO:-0600
TZNAME:CST
DTSTART:20251102T070000
END:STANDARD
END:VTIMEZONE
BEGIN:VEVENT
DTSTART;TZID=America/Chicago:20240922T161500
DTEND;TZID=America/Chicago:20240922T183000
DTSTAMP:20260420T105700
CREATED:20230912T020930Z
LAST-MODIFIED:20240905T040313Z
UID:3425-1727021700-1727029800@www.baxterarena.com
SUMMARY:Omaha Hockey Open House
DESCRIPTION:You’re Invited!\nPlease Join Us For The Annual Hockey Open House!\nHockey season is right around the corner! It’s not too late to select your season seat! Join us for the annual hockey open house event on Sunday\, September 22 from 4:15 p.m. – 6:30 P.M. at Baxter Arena! Available seats will be marked for purchase. 24-24 apparel will also be available for purchase. Players will be present and signing autographs. \nEvent Schedule:3 \n3:30 P.M. Doors Open \n4:15 P.M. – 5:30 P.M. Oe Ice Team Activities \n5:30 P.M. – 6:30 P.M. Skate With The Team \nYou can purchase your season tickets by calling the Baxter Arena Box Office at 402.554.MAVS\, online at omavs.com/tix\, or stopping by the Baxter Arena Box Office. \nSee you soon! Go Mavericks!
URL:https://www.baxterarena.com/event/hockey-open-house/
LOCATION:Baxter Arena\, 2425 South 67th Street\, Omaha\, NE\, 68182
CATEGORIES:Hockey
ATTACH;FMTTYPE=image/jpeg:https://www.baxterarena.com/wp-content/uploads/2023/09/GWp3-LcbUAAtZ1i.jpg
ORGANIZER;CN="Baxter Arena":MAILTO:info@baxterarena.com
END:VEVENT
END:VCALENDAR